BEGIN:VCALENDAR
VERSION:2.0
PRODID:-//eventon.com NONSGML v1.0//EN
CALSCALE:GREGORIAN
METHOD:PUBLISH
BEGIN:VEVENT
UID:69e524531ccd1
DTSTAMP:20260419T185203Z
DTSTART:20200910T140000Z
DTEND:20201231T180000Z
LOCATION:Maison de la Photographie Lille 28 rue Pierre Legrand - 59000 Lille
SUMMARY:Insoltation
DESCRIPTION:Nous sommes le 12 avril 2020\,  le confinement va encore durer 
 1 mois mais personne ne le sait à ce moment-là; nous sommes le dimanche d
 e Pâques\,  dans les rues de Lille désertées\,  la ville est isolée\,  
 confinée. Dehors\,  le soleil est brûlant\,  la chaleur est lourde\,  moi
 te\,  les bâtiments[..]\nhttps://www.9lives-magazine.com/events/insoltatio
 n-alban-gernigon/
URL:https://www.9lives-magazine.com/events/insoltation-alban-gernigon/
END:VEVENT
END:VCALENDAR