BEGIN:VCALENDAR
VERSION:2.0
PRODID:-//eventon.com NONSGML v1.0//EN
CALSCALE:GREGORIAN
METHOD:PUBLISH
BEGIN:VEVENT
UID:69e539ffda41f
DTSTAMP:20260419T202431Z
DTSTART:20200910T140000Z
DTEND:20201231T180000Z
LOCATION:Maison de la Photographie Lille 28 rue Pierre Legrand - 59000 Lille
SUMMARY:Pull Jaune
DESCRIPTION:BOLOLO (Loïc Pénet) crée ses images en pastichant des oeuvre
 s du XVème siècle à nos jours. Il les a découvertes lors de promenades 
 dans les musées d&rsquo;errances numériques. Un personnage mystérieux re
 mplace les protagonistes des oeuvres. Qui est-il ? Ce jeune homme est la pl
 upart du temps vêtu d&rsquo;un pull[..]\nhttps://www.9lives-magazine.com/e
 vents/pull-jaune-bololo/
URL:https://www.9lives-magazine.com/events/pull-jaune-bololo/
END:VEVENT
END:VCALENDAR