BEGIN:VCALENDAR
VERSION:2.0
PRODID:-//eventon.com NONSGML v1.0//EN
CALSCALE:GREGORIAN
METHOD:PUBLISH
BEGIN:VEVENT
UID:69e5a46623ecc
DTSTAMP:20260420T035830Z
DTSTART:20200919T100000Z
DTEND:20210430T180000Z
LOCATION:Arboretum de la Vallée aux Loups 102 Rue de Chateaubriand\,  92290 Châtenay-Malabry
SUMMARY:Portraits en pied
DESCRIPTION:Cette exposition est réalisée avec l&rsquo;équipe du Domaine
  de la Vallée aux Loups à Châtnay-Malabry et le photographe Michel Monte
 aux. Il s’agissait de photographier à la chambre 4&#215;5 dix des magnif
 iques bonsaïs de la collection. Nous avons monté un studio de prises de v
 ues avec un grand cyclo blanc dans[..]\nhttps://www.9lives-magazine.com/eve
 nts/portraits-pied-michel-monteaux/
URL:https://www.9lives-magazine.com/events/portraits-pied-michel-monteaux/
END:VEVENT
END:VCALENDAR