BEGIN:VCALENDAR
VERSION:2.0
PRODID:-//eventon.com NONSGML v1.0//EN
CALSCALE:GREGORIAN
METHOD:PUBLISH
BEGIN:VEVENT
UID:69e88cf067b62
DTSTAMP:20260422T085512Z
DTSTART:20201015T093000Z
DTEND:20200115T173000Z
LOCATION:La Scam 5 avenue Vélasquez 75008 Paris
SUMMARY:Les lauréats du Prix Roger Pic 2020
DESCRIPTION:La série VoiE.X\,  artistes sous contraintes\,  réalisée en 
 Mauritanie\,  en Iran\,  en Papouasie Nouvelle Guinée\,  à Madagascar et 
 au Brésil présente des portraits d’artistes qui posent l’acte de cré
 ation comme un acte de résilience et de résistance\,  dans des pays où v
 ivre de l’art est une gageure. Prises au grand[..]\nhttps://www.9lives-ma
 gazine.com/events/laureats-prix-roger-pic-2020/
URL:https://www.9lives-magazine.com/events/laureats-prix-roger-pic-2020/
END:VEVENT
END:VCALENDAR