BEGIN:VCALENDAR
VERSION:2.0
PRODID:-//eventon.com NONSGML v1.0//EN
CALSCALE:GREGORIAN
METHOD:PUBLISH
BEGIN:VEVENT
UID:69e4f85bcb39f
DTSTAMP:20260419T154427Z
DTSTART:20200919T140000Z
DTEND:20210829T180000Z
LOCATION:La Chapelle Art Contemporain Impasse de l’Abbaye 78120 Clairefontaine-en-Yvelines
SUMMARY:Nous ! L'apparence de la vérité
DESCRIPTION:Avec l’apparition de la photographie\,  c’est l’accès au
  portrait qui se démocratise ; le portrait peint étant alors réservé à
  une caste aristocratique ou à une élite bourgeoise. Après les daguerré
 otypes\,  le succès et l’attrait pour le portrait photographique se conf
 irment avec l’invention de Disdéri\,  « les portraits cartes »\, [..]\
 nhttps://www.9lives-magazine.com/events/lapparence-de-verite/
URL:https://www.9lives-magazine.com/events/lapparence-de-verite/
END:VEVENT
END:VCALENDAR