BEGIN:VCALENDAR
VERSION:2.0
PRODID:-//eventon.com NONSGML v1.0//EN
CALSCALE:GREGORIAN
METHOD:PUBLISH
BEGIN:VEVENT
UID:69e57415120c7
DTSTAMP:20260420T003221Z
DTSTART:20201001T100000Z
DTEND:20210314T180000Z
LOCATION:Palais Galliera 10 Avenue Pierre 1er de Serbie\,  75016 Paris
SUMMARY:Manifeste de Mode
DESCRIPTION:À la faveur de sa réouverture après des travaux d’extensio
 n\,  le Palais Galliera\,  musée de la Mode de la Ville de Paris\,  prése
 nte la première rétrospective à Paris d’une couturière hors normes : 
 Gabrielle Chanel (1883-1971). Dans ces années où Paul Poiret domine la mo
 de féminine\,  Gabrielle Chanel\,  va dès[..]\nhttps://www.9lives-magazin
 e.com/events/manifeste-de-mode-gabrielle-chanel/
URL:https://www.9lives-magazine.com/events/manifeste-de-mode-gabrielle-chanel/
END:VEVENT
END:VCALENDAR