BEGIN:VCALENDAR
VERSION:2.0
PRODID:-//eventon.com NONSGML v1.0//EN
CALSCALE:GREGORIAN
METHOD:PUBLISH
BEGIN:VEVENT
UID:69e9c8f2ee314
DTSTAMP:20260423T072330Z
DTSTART:20200919T130000Z
DTEND:20201025T190000Z
LOCATION:Galerie Binome 19 rue Charlemagne 75004 Paris
SUMMARY:La peau du monde
DESCRIPTION:La peau du monde est le second volet de la présentation du cor
 pus Boîte noire de Thibault Brunet à la Galerie Binome. Initié en 2018 d
 ans le cadre de la Résidence Étant donnés* réalisée aux Etats-Unis\,  
 ce projet s’apparente à une mission archéologique sur les ruines de gue
 rre en Syrie\, [..]\nhttps://www.9lives-magazine.com/events/peau-monde-thib
 ault-brunet/
URL:https://www.9lives-magazine.com/events/peau-monde-thibault-brunet/
END:VEVENT
END:VCALENDAR