BEGIN:VCALENDAR
VERSION:2.0
PRODID:-//eventon.com NONSGML v1.0//EN
CALSCALE:GREGORIAN
METHOD:PUBLISH
BEGIN:VEVENT
UID:69eb58b9839f3
DTSTAMP:20260424T114913Z
DTSTART:20200917T100000Z
DTEND:20201127T180000Z
LOCATION:Galerie Net Plus 60A rue de la Rigourdière 35510 Cesson-Sévigné
SUMMARY:Rencontres Photographiques de ViaSilva #3
DESCRIPTION:La 3e édition des Rencontres Photographiques de ViaSilva prés
 ente le travail de Mouna Saboni\,  photographe franco-marocaine et du mexic
 ain Jeremias Escudero. En 2019\,  ils ont arpenté le territoire de ViaSilv
 a (Rennes et Cesson-Sévigné -35)* munis de leurs appareils photo. Ils son
 t allés à la rencontre de ceux et celles qui[..]\nhttps://www.9lives-maga
 zine.com/events/rencontres-photographiques-de-viasilva-3/
URL:https://www.9lives-magazine.com/events/rencontres-photographiques-de-viasilva-3/
END:VEVENT
END:VCALENDAR