BEGIN:VCALENDAR
VERSION:2.0
PRODID:-//eventon.com NONSGML v1.0//EN
CALSCALE:GREGORIAN
METHOD:PUBLISH
BEGIN:VEVENT
UID:69ed818bdea5a
DTSTAMP:20260426T030755Z
DTSTART:20210107T110000Z
DTEND:20210207T190000Z
LOCATION:Galerie Berthet-Aittouarès 29 rue de Seine 75006 Paris
SUMMARY:La Beauté Terrible
DESCRIPTION:John Craven un audacieux du futur\,  un visionnaire qui en 1950
  décrit l’industrie\,  celle du pétrole\,  comme le «meilleur des mond
 es» et le plus menaçant. Une entrée dans l’enquête John Craven La Gal
 erie Berthet Aittouarès a invité Savage Collective à s’emparer de l’
 oeuvre et du personnage pour explorer l’héritage artistique[..]\nhttps:/
 /www.9lives-magazine.com/events/beaute-terrible-john-craven/
URL:https://www.9lives-magazine.com/events/beaute-terrible-john-craven/
END:VEVENT
END:VCALENDAR