BEGIN:VCALENDAR
VERSION:2.0
PRODID:-//eventon.com NONSGML v1.0//EN
CALSCALE:GREGORIAN
METHOD:PUBLISH
BEGIN:VEVENT
UID:69e91ca5e08b4
DTSTAMP:20260422T190821Z
DTSTART:20200908T110000Z
DTEND:20210103T190000Z
LOCATION:Fondation Henri Cartier Bresson 79\,  rue des Archives 75003 Paris
SUMMARY:Londres
DESCRIPTION:Exposition La Fondation HCB prÃ©sente Londres\,  une nouvelle s
 Ã©lection de photographies de Sergio Larrain (1931-2012) Ã©largie par lâ€™a
 uteur lui-mÃªme. Durant lâ€™hiver 1958-1959\,  le photographe chilien se re
 nd dans la capitale britannique et rÃ©alise un ensemble de photographies oÃ
 ¹\,  sensible aux scÃ¨nes et lumiÃ¨res quâ€™il rencontre\,  son imaginaire 
 dÃ©passe le sujet[..]\nhttps://www.9lives-magazine.com/events/londres-sergi
 o-larrain/
URL:https://www.9lives-magazine.com/events/londres-sergio-larrain/
END:VEVENT
END:VCALENDAR