BEGIN:VCALENDAR
VERSION:2.0
PRODID:-//eventon.com NONSGML v1.0//EN
CALSCALE:GREGORIAN
METHOD:PUBLISH
BEGIN:VEVENT
UID:69e6ee978b1ec
DTSTAMP:20260421T032719Z
DTSTART:20201203T130000Z
DTEND:20210130T190000Z
LOCATION:Galerie Maubert 20 rue Saint-Gilles 75003 Paris
SUMMARY:Entre quatre yeux
DESCRIPTION:L’exposition Entre quatre yeux présente de manière inédite
  les travaux photographiques de Lucien Hervé et Rodolf Hervé\,  père et 
 fils. Un face-à-face de l’intime\,  orchestré par Judith Elkan Hervé\,
   veuve de Lucien Hervé\,  qui œuvre depuis les débuts à la reconnaissa
 nce internationale du travail de son mari\,  pilier de la[..]\nhttps://www.
 9lives-magazine.com/events/entre-quatre-yeux-lucien-herve-rodolf-herve/
URL:https://www.9lives-magazine.com/events/entre-quatre-yeux-lucien-herve-rodolf-herve/
END:VEVENT
END:VCALENDAR