BEGIN:VCALENDAR
VERSION:2.0
PRODID:-//eventon.com NONSGML v1.0//EN
CALSCALE:GREGORIAN
METHOD:PUBLISH
BEGIN:VEVENT
UID:69eb052a45fcb
DTSTAMP:20260424T055242Z
DTSTART:20201003T130000Z
DTEND:20201107T180000Z
LOCATION:Aiguillage (aux Frigos) 19 rue des Frigos Bat B rdc fond couloir 75013 Paris
SUMMARY:Minuit dans le monde
DESCRIPTION:Minuit dans le monde\nhttps://www.9lives-magazine.com/events/mi
 nuit-monde-miguel-wendling/
URL:https://www.9lives-magazine.com/events/minuit-monde-miguel-wendling/
END:VEVENT
END:VCALENDAR