BEGIN:VCALENDAR
VERSION:2.0
PRODID:-//eventon.com NONSGML v1.0//EN
CALSCALE:GREGORIAN
METHOD:PUBLISH
BEGIN:VEVENT
UID:69e9318e8142e
DTSTAMP:20260422T203734Z
DTSTART:20210116T140000Z
DTEND:20201031T190000Z
LOCATION:Fondation Brownstone 26 rue Saint Gilles 75003 Paris
SUMMARY:Virus
DESCRIPTION:Dans les circonstances qui ont marqué le monde ces derniers mo
 is\,  nous avons souhaité vous faire découvrir VIRUS\,  le regard d&rsquo
 ;Antoine d&rsquo;Agata sur la crise sanitaire provoquée par le Covid-19 et
  ses résonances sociales et politiques. L’exposition présente une insta
 llation de 1 000 photographies sur les 13 000 réalisées par[..]\nhttps://
 www.9lives-magazine.com/events/virus-antoine-dagata/
URL:https://www.9lives-magazine.com/events/virus-antoine-dagata/
END:VEVENT
END:VCALENDAR