BEGIN:VCALENDAR
VERSION:2.0
PRODID:-//eventon.com NONSGML v1.0//EN
CALSCALE:GREGORIAN
METHOD:PUBLISH
BEGIN:VEVENT
UID:69e8f9120d81f
DTSTAMP:20260422T163634Z
DTSTART:20210107T110000Z
DTEND:20210123T190000Z
LOCATION:Lusted Men Project Space 8 rue Perronet - 75007 Paris
SUMMARY:Lusted Men
DESCRIPTION:Lusted Men est une enquête initiée à l’été 2019 avec pou
 r objectif de questionner l’érotisation du corps des hommes* par la phot
 ographie. Où sont les images érotiques d’hommes* ? Lusted Men encourage
  les photographes\,  professionnel·le·s comme amateurices – indépendam
 ment de leur genre ou de leur orientation sexuelle – à faire[..]\nhttps:
 //www.9lives-magazine.com/events/lusted-men-project-space/
URL:https://www.9lives-magazine.com/events/lusted-men-project-space/
END:VEVENT
END:VCALENDAR