BEGIN:VCALENDAR
VERSION:2.0
PRODID:-//eventon.com NONSGML v1.0//EN
CALSCALE:GREGORIAN
METHOD:PUBLISH
BEGIN:VEVENT
UID:69ed04e46678b
DTSTAMP:20260425T181604Z
DTSTART:20210107T110000Z
DTEND:20210123T190000Z
LOCATION:Maison Auguste Comte 10 rue Monsieur-le-Prince 75006 Paris
SUMMARY:Martine Aballéa
DESCRIPTION:Le travail de Martine Aballéa donne vie à des lieux imaginair
 es\,  des intrigues mystérieuses\,  créant ainsi des récits proches des 
 contes. Il s’articule finement entre textes et images photographiques\,  
 reprises et retouchées\,  colorisées sans naturalisme. Par ces seuls biai
 s\,  ses productions proposent un grand voyage de l’esprit : Martine Abal
 léa[..]\nhttps://www.9lives-magazine.com/events/martine-aballea/
URL:https://www.9lives-magazine.com/events/martine-aballea/
END:VEVENT
END:VCALENDAR