BEGIN:VCALENDAR
VERSION:2.0
PRODID:-//eventon.com NONSGML v1.0//EN
CALSCALE:GREGORIAN
METHOD:PUBLISH
BEGIN:VEVENT
UID:69e63da39f81c
DTSTAMP:20260420T145219Z
DTSTART:20201024T100000Z
DTEND:20201121T180000Z
LOCATION:Lumière d&#039;Encre 47 rue de la République 66400 Céret
SUMMARY:CHRISTOPHE\,  L’homme de Tanger
DESCRIPTION:C’était il y a deux ans. Je pérégrinais dans la médina de
  Tanger sans aucun but précis sinon à la recherche perpétuelle des ombre
 s\,  des lumières éblouissantes\,  des odeurs fortes omniprésentes\,  qu
 i enveloppent ce quartier aux mille ruelles. Peu de temps après\,  j’app
 ris par une connaissance que Christophe possédait une[..]\nhttps://www.9li
 ves-magazine.com/events/christophe-lhomme-de-tanger-philippe-fourcadier/
URL:https://www.9lives-magazine.com/events/christophe-lhomme-de-tanger-philippe-fourcadier/
END:VEVENT
END:VCALENDAR