BEGIN:VCALENDAR
VERSION:2.0
PRODID:-//eventon.com NONSGML v1.0//EN
CALSCALE:GREGORIAN
METHOD:PUBLISH
BEGIN:VEVENT
UID:69e6d7ff6b434
DTSTAMP:20260421T015055Z
DTSTART:20210121T120000Z
DTEND:20210425T180000Z
LOCATION:hangar photo art center gallery 18\,  Place du Châtelain 1050 Brussels
SUMMARY:PhotoBrussels Festival 05
DESCRIPTION:Après le succès de la 4ème édition en 2019\,  Hangar\,  le 
 centre photographique de Bruxelles lance la 5ème édition de PhotoBrussels
  Festival. Depuis sa création en 2016 par Delphine Dumont\,  PhotoBrussels
  Festival se déploie sur les 1000 m2 du Hangar avec une exposition thémat
 ique et propose un parcours photographique dans[..]\nhttps://www.9lives-mag
 azine.com/events/photobrussels-festival-05/
URL:https://www.9lives-magazine.com/events/photobrussels-festival-05/
END:VEVENT
END:VCALENDAR