BEGIN:VCALENDAR
VERSION:2.0
PRODID:-//eventon.com NONSGML v1.0//EN
CALSCALE:GREGORIAN
METHOD:PUBLISH
BEGIN:VEVENT
UID:69ea417b7749a
DTSTAMP:20260423T155747Z
DTSTART:20210519T140000Z
DTEND:20210612T190000Z
LOCATION:Hôtel Fontfreyde - Centre photographique 34\,  rue des Gras 63000 Clermont-Ferrand
SUMMARY:Fonds photo déconfiné
DESCRIPTION:Une mosaïque photographique et urbaine « Fonds Photo Déconf
 iné »\,  proposé en remplacement de l’exposition « Grand Remix Urba
 in »\,  présente les œuvres réalisées dans le cadre des résidences p
 hotographiques commanditées par la Ville depuis 2004. Elle offre à la foi
 s une vision de la photographie contemporaine française et des évolutions
  urbanistiques récentes de[..]\nhttps://www.9lives-magazine.com/events/fon
 ds-photo-deconfine/
URL:https://www.9lives-magazine.com/events/fonds-photo-deconfine/
END:VEVENT
END:VCALENDAR