BEGIN:VCALENDAR
VERSION:2.0
PRODID:-//eventon.com NONSGML v1.0//EN
CALSCALE:GREGORIAN
METHOD:PUBLISH
BEGIN:VEVENT
UID:69e984bdb6aa3
DTSTAMP:20260423T023229Z
DTSTART:20201128T110000Z
DTEND:20210130T190000Z
LOCATION:Galerie Clémentine de la Féronnière 51 Rue Saint-Louis en l'Île\,  75004 Paris
SUMMARY:Une certaine scène française
DESCRIPTION:À la galerie\,  nous présentons notre stand Paris Photo autou
 r de la scène photographique française contemporaine avec une sélection 
 des travaux de FLORE\,  Guillaume Zuili\,  Marco Barbon\,  Adrien Boyer et 
 invitons à nous rejoindre Juliette Agnel de la galerie Françoise Paviot. 
 Dans le cadre de Photo Days\nhttps://www.9lives-magazine.com/events/une-cer
 taine-scene-francaise/
URL:https://www.9lives-magazine.com/events/une-certaine-scene-francaise/
END:VEVENT
END:VCALENDAR