BEGIN:VCALENDAR
VERSION:2.0
PRODID:-//eventon.com NONSGML v1.0//EN
CALSCALE:GREGORIAN
METHOD:PUBLISH
BEGIN:VEVENT
UID:69e8f652085bb
DTSTAMP:20260422T162450Z
DTSTART:20201128T110000Z
DTEND:20210119T190000Z
LOCATION:Librairie Marian Goodman 66 rue du Temple 75003 Paris
SUMMARY:Hiroshi Sugimoto
DESCRIPTION:La Librairie Marian Goodman présente une exposition d’Hirosh
 i Sugimoto réunissant deux projets distincts : « Dioramas » et « Gates 
 of paradise ». Dioramas nous plonge dans cette « Nature peu naturelle » 
 : il photographie de façon réaliste des boîtes scénographiées\,  mêla
 nt peinture et objets divers\,  et trompe le[..]\nhttps://www.9lives-magazi
 ne.com/events/hiroshi-sugimoto/
URL:https://www.9lives-magazine.com/events/hiroshi-sugimoto/
END:VEVENT
END:VCALENDAR