BEGIN:VCALENDAR
VERSION:2.0
PRODID:-//eventon.com NONSGML v1.0//EN
CALSCALE:GREGORIAN
METHOD:PUBLISH
BEGIN:VEVENT
UID:69e6fd0e49956
DTSTAMP:20260421T042902Z
DTSTART:20201211T140000Z
DTEND:20210130T190000Z
LOCATION:Galerie Roger-Viollet 6 rue de Seine 75006 Paris
SUMMARY:Les icônes de l’agence Roger-Viollet
DESCRIPTION:Roger-Viollet\,  créée en 1938\,  est une des plus anciennes 
 agences photographiques françaises. Ses collections constituent un fonds p
 hotographique unique en Europe avec plus de 6 millions de documents couvran
 t plus de 180 ans d’histoire. Après trois mois de travaux\,  le lieu dé
 dié à la photographie d’archive propose aujourd’hui\,  un nouvel[..]\
 nhttps://www.9lives-magazine.com/events/les-icones-de-lagence-roger-viollet
 /
URL:https://www.9lives-magazine.com/events/les-icones-de-lagence-roger-viollet/
END:VEVENT
END:VCALENDAR