BEGIN:VCALENDAR
VERSION:2.0
PRODID:-//eventon.com NONSGML v1.0//EN
CALSCALE:GREGORIAN
METHOD:PUBLISH
BEGIN:VEVENT
UID:69ea2d2802cfd
DTSTAMP:20260423T143104Z
DTSTART:20210608T110000Z
DTEND:20210829T190000Z
LOCATION:Jeu de Paume 1\,  place de la Concorde 75008 Paris
SUMMARY:Une autre photographie allemande
DESCRIPTION:À l’occasion du 75e anniversaire de la naissance de Michael 
 Schmidt\,  le Jeu de Paume présente une grande rétrospective de cet artis
 te\,  considéré comme l’un des piliers majeurs de l’histoire de l’a
 rt allemand du XXe siècle. Hommage à un grand photographe\,  cette exposi
 tion présentera des originaux\,  des tirages de travail[..]\nhttps://www.9
 lives-magazine.com/events/une-autre-photographie-allemande-michael-schmidt/
URL:https://www.9lives-magazine.com/events/une-autre-photographie-allemande-michael-schmidt/
END:VEVENT
END:VCALENDAR