BEGIN:VCALENDAR
VERSION:2.0
PRODID:-//eventon.com NONSGML v1.0//EN
CALSCALE:GREGORIAN
METHOD:PUBLISH
BEGIN:VEVENT
UID:69e613643b421
DTSTAMP:20260420T115204Z
DTSTART:20210107T130000Z
DTEND:20210327T183000Z
LOCATION:MAC - Maison des Arts de CrÃ©teil 1 Place Salvador Allende\,  94000 CrÃ©teil
SUMMARY:Variations of Reality
DESCRIPTION:Lâ€™exposition Variations of Reality questionne notre rapport Ã
   la notion de rÃ©alitÃ©\,  lâ€™ouvre et le confronte\,  Ã  travers les sÃ©
 ries photographiques de cinq jeunes artistes contemporaines. Chacune Ã  leu
 r maniÃ¨re\,  elles explorent les frontiÃ¨res de ce que nous nommons\,  fau
 te de mieux\,  le rÃ©el\,  laissant Ã©merger ses strates\,  ses failles[..]
 \nhttps://www.9lives-magazine.com/events/variations-of-reality/
URL:https://www.9lives-magazine.com/events/variations-of-reality/
END:VEVENT
END:VCALENDAR