BEGIN:VCALENDAR
VERSION:2.0
PRODID:-//eventon.com NONSGML v1.0//EN
CALSCALE:GREGORIAN
METHOD:PUBLISH
BEGIN:VEVENT
UID:69e6d955196c4
DTSTAMP:20260421T015637Z
DTSTART:20210519T000000Z
DTEND:20211120T000000Z
LOCATION:Frac Nouvelle-Aquitaine MÉCA Corto Maltese\,  La MÉCA 5 parvis\,  33800 Bordeaux
SUMMARY:Memoria : Récits d'une autre histoire
DESCRIPTION:Dans le cadre du Focus Femmes de la Saison Africa 2020 et du pr
 ogramme régional d’expositions Vivantes ! à l’initiative du Frac Nouv
 elle-Aquitaine MÉCA L’exposition Memoria : récits d’une autre Histoir
 e c’est l’idée d’une mémoire collective composée d’une myriade d
 e récits\,  d’histoires\,  de questionnements et d’expériences éparp
 illées dans nos mémoires[..]\nhttps://www.9lives-magazine.com/events/memo
 ria-recits-dune-autre-histoire/
URL:https://www.9lives-magazine.com/events/memoria-recits-dune-autre-histoire/
END:VEVENT
END:VCALENDAR