BEGIN:VCALENDAR
VERSION:2.0
PRODID:-//eventon.com NONSGML v1.0//EN
CALSCALE:GREGORIAN
METHOD:PUBLISH
BEGIN:VEVENT
UID:69e631f7534a2
DTSTAMP:20260420T140231Z
DTSTART:20210519T130000Z
DTEND:20210822T190000Z
LOCATION:Le Château d’Eau - Pôle photographique de Toulouse 1\,  place Laganne 31300 Toulouse
SUMMARY:Looking for the Masters in Ricardo’s Golden Shoes
DESCRIPTION:Catherine Balet rend hommage aux grands maîtres de la photogra
 phie avec son modèle Ricardo Martinez Paz\,  qu’elle met en scène en re
 jouant avec lui des clichés célèbres de l’histoire de la photographie.
  Diplômée de l’Ecole nationale des Beaux-Arts de Paris\,  Catherine Bal
 et a débuté sa carrière artistique comme peintre avant[..]\nhttps://www.
 9lives-magazine.com/events/looking-for-the-masters-in-ricardos-golden-shoes
 -catherine-balet/
URL:https://www.9lives-magazine.com/events/looking-for-the-masters-in-ricardos-golden-shoes-catherine-balet/
END:VEVENT
END:VCALENDAR