BEGIN:VCALENDAR
VERSION:2.0
PRODID:-//eventon.com NONSGML v1.0//EN
CALSCALE:GREGORIAN
METHOD:PUBLISH
BEGIN:VEVENT
UID:69ebb75718b3c
DTSTAMP:20260424T183255Z
DTSTART:20201021T110000Z
DTEND:20210322T200000Z
LOCATION:Centre Pompidou Place Georges-Pompidou 75004 Paris
SUMMARY:Dust The Plates of the Present
DESCRIPTION:Dust. The Plates of the Present est une installation photograph
 ique\,  réalisée entre 2013 et 2018 à l’initiative du peintre françai
 s Thomas Fougeirol et de l’artiste et commissaire américain Jo-ey Tang. 
 Ces derniers ont invité cent-vingt-quatre artistes – plasticiens\,  musi
 ciens\,  écrivains\,  vidéastes\,  de nationalités diverses – à produ
 ire chacun une série[..]\nhttps://www.9lives-magazine.com/events/dust-the-
 plates-of-the-present/
URL:https://www.9lives-magazine.com/events/dust-the-plates-of-the-present/
END:VEVENT
END:VCALENDAR