BEGIN:VCALENDAR
VERSION:2.0
PRODID:-//eventon.com NONSGML v1.0//EN
CALSCALE:GREGORIAN
METHOD:PUBLISH
BEGIN:VEVENT
UID:69ebd523a3774
DTSTAMP:20260424T204003Z
DTSTART:20201007T110000Z
DTEND:20210201T200000Z
LOCATION:Centre Pompidou Place Georges-Pompidou 75004 Paris
SUMMARY:Ni cygne ni lune Œuvres tchèques (1950-2014)
DESCRIPTION:Située au cœur des collections du Musée national d’art mod
 erne\,  la salle Focus met à l’honneur depuis 2015 des artistes modernes
  et contemporains de toutes disciplines\,  à partir d’œuvres marquantes
  entrées dans les collections sous forme de dons récents. Après Barnett 
 Newman\,  Chen Zhen\,  Hubert Damisch\,  Jos Houweling et tout[..]\nhttps:/
 /www.9lives-magazine.com/events/ni-cygne-ni-lune-oeuvres-tcheques-1950-2014
 -don-de-la-collection-claude-et-henri-de-saint-pierre/
URL:https://www.9lives-magazine.com/events/ni-cygne-ni-lune-oeuvres-tcheques-1950-2014-don-de-la-collection-claude-et-henri-de-saint-pierre/
END:VEVENT
END:VCALENDAR