BEGIN:VCALENDAR
VERSION:2.0
PRODID:-//eventon.com NONSGML v1.0//EN
CALSCALE:GREGORIAN
METHOD:PUBLISH
BEGIN:VEVENT
UID:69ed85d169ef4
DTSTAMP:20260426T032609Z
DTSTART:20210122T110000Z
DTEND:20210615T170000Z
LOCATION:Musée Barbier-Mueller Rue Jean-Calvin 10\,  1204 Genève\,  Suisse
SUMMARY:Wabi-sabi\,  la beauté dans l’imperfection
DESCRIPTION:Le musée Barbier-Mueller a invité le célèbre photographe St
 eve McCurry à élaborer une exposition qui reflète deux valeurs qu’ils 
 partagent\,  leur ouverture sur l’humanité et leur forte sensibilité à
  la beauté. Steve McCurry explore la philosophie du wabi-sabi (la beauté 
 des choses imparfaites\,  impermanentes et incomplètes) à travers trente 
 de[..]\nhttps://www.9lives-magazine.com/events/wabi-sabi-la-beaute-dans-lim
 perfection-steve-mccurry/
URL:https://www.9lives-magazine.com/events/wabi-sabi-la-beaute-dans-limperfection-steve-mccurry/
END:VEVENT
END:VCALENDAR