BEGIN:VCALENDAR
VERSION:2.0
PRODID:-//eventon.com NONSGML v1.0//EN
CALSCALE:GREGORIAN
METHOD:PUBLISH
BEGIN:VEVENT
UID:69ea2cf954085
DTSTAMP:20260423T143017Z
DTSTART:20210525T220000Z
DTEND:20210829T053000Z
LOCATION:Galerie de La Filature 20 allée Nathan Katz 68100 Mulhouse
SUMMARY:Suan Tian Ku La
DESCRIPTION:L’expression chinoise suān tian kŭ là désigne les quatr
 e saveurs – acide\,  sucrée\,  amère et pimentée –\,  et sert égale
 ment de métaphore aux vicissitudes de la vie humaine. Cette expression int
 emporelle semble d’autant plus adaptée à la vie chinoise moderne qui s
 est profondément transformée en quelques décennies. L’exposition pr
 sente quatre photographes d’horizons[..]\nhttps://www.9lives-magazine.co
 m/events/ren-hang-sun-yanchu-lu-yanpeng-zhang-xiao/
URL:https://www.9lives-magazine.com/events/ren-hang-sun-yanchu-lu-yanpeng-zhang-xiao/
END:VEVENT
END:VCALENDAR