BEGIN:VCALENDAR
VERSION:2.0
PRODID:-//eventon.com NONSGML v1.0//EN
CALSCALE:GREGORIAN
METHOD:PUBLISH
BEGIN:VEVENT
UID:69e5e9344bc0f
DTSTAMP:20260420T085204Z
DTSTART:20201119T000000Z
DTEND:20210215T235900Z
LOCATION:
SUMMARY:Bourse Transverse 2020
DESCRIPTION:La bourse Transverse\,  un projet Ã  quatre mains publiÃ© par l
 es Ã©ditions Sometimes ! Afin de favoriser lâ€™Ã©mergence dâ€™Å“uvres trans
 disciplinaires\,  lâ€™ADAGP et l&rsquo;association FreeLens se sont associÃ
 ©es pour crÃ©er la Bourse Transverse. Cette bourse\,  dotÃ©e de 7 000 â‚¬\,
   a pour ambition de rÃ©unir un photographe et un artiste dâ€™une[..]\nhttp
 s://www.9lives-magazine.com/events/bourse-transverse-2020/
URL:https://www.9lives-magazine.com/events/bourse-transverse-2020/
END:VEVENT
END:VCALENDAR