BEGIN:VCALENDAR
VERSION:2.0
PRODID:-//eventon.com NONSGML v1.0//EN
CALSCALE:GREGORIAN
METHOD:PUBLISH
BEGIN:VEVENT
UID:69ecdd4465e2d
DTSTAMP:20260425T152700Z
DTSTART:20210206T140000Z
DTEND:20210509T190000Z
LOCATION:La Chambre - espace d&#039;exposition et de formation à l&#039;image 4 place d'Austerlitz 67000 Strasbourg
SUMMARY:Jeunesse délaissée
DESCRIPTION:Les photographies de Patricia Anne « Tish » Murtha se placent
  dans la tradition de la documentation de la classe ouvrière britannique. 
 Murtha ne s’est jamais considérée comme une photojournaliste\,  dont le
  quotidien serait de faire le portrait de figures politiques ou de football
 eurs. Elle souhaitait photographier la vie très[..]\nhttps://www.9lives-ma
 gazine.com/events/jeunesse-delaissee-tish-murtha-2/
URL:https://www.9lives-magazine.com/events/jeunesse-delaissee-tish-murtha-2/
END:VEVENT
END:VCALENDAR