BEGIN:VCALENDAR
VERSION:2.0
PRODID:-//eventon.com NONSGML v1.0//EN
CALSCALE:GREGORIAN
METHOD:PUBLISH
BEGIN:VEVENT
UID:69ea413c3fe63
DTSTAMP:20260423T155644Z
DTSTART:20210519T090000Z
DTEND:20210822T200000Z
LOCATION:BnF - Bibliothèque nationale de France Quai François Mauriac 75013 Paris
SUMMARY:Le Grand Jeu
DESCRIPTION:La Fondation Louis Roederer\,  qui célèbre ses 10 ans cette a
 nnée\,  demeure un fidèle mécène de la BnF et soutient l’exposition L
 e Grand Jeu. Ce titre n’est pas sans rappeler le hasard cher aux surréal
 istes. Les 5 co-commissaires ont sélectionné individuellement une cinquan
 taine d’images de l’artiste. Aucun commissaire ne connaissait[..]\nhttp
 s://www.9lives-magazine.com/events/le-grand-jeu-henri-cartier-bresson/
URL:https://www.9lives-magazine.com/events/le-grand-jeu-henri-cartier-bresson/
END:VEVENT
END:VCALENDAR