BEGIN:VCALENDAR
VERSION:2.0
PRODID:-//eventon.com NONSGML v1.0//EN
CALSCALE:GREGORIAN
METHOD:PUBLISH
BEGIN:VEVENT
UID:69ea53a346b55
DTSTAMP:20260423T171515Z
DTSTART:20210529T110000Z
DTEND:20211107T180000Z
LOCATION:MuMa – Musée d’art moderne André Malraux 2\,  boulevard Clemenceau 76600 Le Havre
SUMMARY:Du merveilleux en architecture au conte photographique
DESCRIPTION:Depuis le classement Unesco du centre-ville du Havre en 2005\, 
  le MuMa a accueilli une trentaine d’artistes photographes et vidéastes\
 ,  français et étrangers\,  pour susciter et accompagner le changement du
  regard porté sur cette ville reconstruite. Dans cette continuité\,  le m
 usée invite cette année Philippe De Gobert (1946\,  Bruxelles) pour[..]\n
 https://www.9lives-magazine.com/events/du-merveilleux-en-architecture-au-co
 nte-photographique-philippe-de-gobert/
URL:https://www.9lives-magazine.com/events/du-merveilleux-en-architecture-au-conte-photographique-philippe-de-gobert/
END:VEVENT
END:VCALENDAR