BEGIN:VCALENDAR
VERSION:2.0
PRODID:-//eventon.com NONSGML v1.0//EN
CALSCALE:GREGORIAN
METHOD:PUBLISH
BEGIN:VEVENT
UID:69e6a67e8d880
DTSTAMP:20260420T221942Z
DTSTART:20210919T020000Z
DTEND:20220101T060000Z
LOCATION:ZONE I Moulin de la Fontaine\,  41100 Thoré-la-Rochette
SUMMARY:Terre & Territoires
DESCRIPTION:Arno Brignon a inauguré la première édition de la résidence
  croisée Terre &amp; Territoires. Entre septembre et novembre 2020\,  Arno
  Brignon a marché. Il a relié Tavers à Thoré-la-Rochette\,  du Val de L
 oire au Perche vendômois en passant par la Beauce. En sillonnant ce territ
 oire rural exploité\,  habité mais aussi[..]\nhttps://www.9lives-magazine
 .com/events/terre-territoires-arno-brignon/
URL:https://www.9lives-magazine.com/events/terre-territoires-arno-brignon/
END:VEVENT
END:VCALENDAR