BEGIN:VCALENDAR
VERSION:2.0
PRODID:-//eventon.com NONSGML v1.0//EN
CALSCALE:GREGORIAN
METHOD:PUBLISH
BEGIN:VEVENT
UID:69ec09327389a
DTSTAMP:20260425T002210Z
DTSTART:20201001
DTEND:20201002
LOCATION:
SUMMARY:Prix Lâ€™Equipe / Richard Martin des meilleures photos dâ€™action de sport 2020/2021
DESCRIPTION:Pour honorer la mÃ©moire de Richard Martin\,  photographe emblÃ
 ©matique de Lâ€™Ã‰quipe dÃ©cÃ©dÃ© le 7 juillet 2020\,  Lâ€™Ã‰quipe crÃ©Ã© u
 n concours international qui rÃ©compensera chaque annÃ©e les meilleures pho
 tos dâ€™action de sport. La premiÃ¨re Ã©dition de ce prix se tiendra en 202
 1. Lâ€™Ã‰quipe tient ainsi Ã  saluer le talent et lâ€™obsession[..]\nhttps:
 //www.9lives-magazine.com/events/prix-lequipe-richard-martin-des-meilleures
 -photos-daction-de-sport-2020-2021/
URL:https://www.9lives-magazine.com/events/prix-lequipe-richard-martin-des-meilleures-photos-daction-de-sport-2020-2021/
END:VEVENT
END:VCALENDAR