BEGIN:VCALENDAR
VERSION:2.0
PRODID:-//eventon.com NONSGML v1.0//EN
CALSCALE:GREGORIAN
METHOD:PUBLISH
BEGIN:VEVENT
UID:69e644e3a85a8
DTSTAMP:20260420T152315Z
DTSTART:20211111T210000Z
DTEND:20211115T060000Z
LOCATION:Grand Palais EphÃ©mÃ¨re Champs de Mars - 75008 Paris
SUMMARY:Paris Photo 2021
DESCRIPTION:La prochaine Ã©dition de Paris Photo se tiendra du 11 au 14 nov
 embre 2021 au Grand Palais EphÃ©mÃ¨re\,  conÃ§u par le cabinet internationa
 l dâ€™architecture Wilmotte &amp; AssociÃ©s. SituÃ© au Champ-de-Mars\,  prÃ
 ¨s de la Tour Eiffel\,  lâ€™espace temporaire accueillera galeries et Ã©dit
 eurs de premier plan\,  pour une 24e Ã©dition trÃ¨s attendue\, [..]\nhttps:
 //www.9lives-magazine.com/events/paris-photo-2021/
URL:https://www.9lives-magazine.com/events/paris-photo-2021/
END:VEVENT
END:VCALENDAR