BEGIN:VCALENDAR
VERSION:2.0
PRODID:-//eventon.com NONSGML v1.0//EN
CALSCALE:GREGORIAN
METHOD:PUBLISH
BEGIN:VEVENT
UID:69e644ecd29c8
DTSTAMP:20260420T152324Z
DTSTART:20210301T210000Z
DTEND:20210506T060000Z
LOCATION:Grand Palais EphÃ©mÃ¨re Champs de Mars - 75008 Paris
SUMMARY:Appel Ã  candidature Paris Photo 2021
DESCRIPTION:La 24eÂ Ã©dition de PARIS PHOTO se tiendra au Grand Palais EphÃ
 ©mÃ¨re\,  du jeudi 11Â novembre au dimanche 14Â novembre 2021. Le vernissag
 e se dÃ©roulera le mercredi 10Â novembre. Les demandes de participation Ã  
 PARIS PHOTO 2021Â se font obligatoirement en remplissant le formulaire de c
 andidature en ligne. Les dates limite de candidature pour la[..]\nhttps://w
 ww.9lives-magazine.com/events/appel-a-candidature-paris-photo-2021/
URL:https://www.9lives-magazine.com/events/appel-a-candidature-paris-photo-2021/
END:VEVENT
END:VCALENDAR