BEGIN:VCALENDAR
VERSION:2.0
PRODID:-//eventon.com NONSGML v1.0//EN
CALSCALE:GREGORIAN
METHOD:PUBLISH
BEGIN:VEVENT
UID:69ec1f57e5b6b
DTSTAMP:20260425T015639Z
DTSTART:20210329T190000Z
DTEND:20210517T105900Z
LOCATION:
SUMMARY:Prix Caritas Photo Sociale 2021
DESCRIPTION:Le Prix Caritas Photo Sociale lance sa deuxième édition. L’
 appel à candidatures est ouvert jusqu’au 16 mai 2021 sur son site Intern
 et. Le Prix Caritas Photo Sociale confirme avec cette nouvelle édition sa 
 volonté de valoriser le travail des photographes qui donnent de la visibil
 ité à la pauvreté\,  à la[..]\nhttps://www.9lives-magazine.com/events/p
 rix-caritas-photo-sociale-2021/
URL:https://www.9lives-magazine.com/events/prix-caritas-photo-sociale-2021/
END:VEVENT
END:VCALENDAR