BEGIN:VCALENDAR
VERSION:2.0
PRODID:-//eventon.com NONSGML v1.0//EN
CALSCALE:GREGORIAN
METHOD:PUBLISH
BEGIN:VEVENT
UID:69ea40fa1e09a
DTSTAMP:20260423T155538Z
DTSTART:20210606T210000Z
DTEND:20210823T040000Z
LOCATION:Institut du Monde Arabe - Tourcoing 9\,  rue Gabriel Péri 59200 Tourcoing
SUMMARY:Mon ami n'est pas ici
DESCRIPTION:Depuis la nuit des temps\,  les circulations de population\,  l
 es échanges culturels et commerciaux dessinent en Afrique des espaces mult
 iples et partagés. À l’occasion de la Saison Africa2020\,  l’IMA-Tour
 coing explore cette notion en l’abordant sous l’angle des migrations hu
 maines contemporaines. Cette exposition réunit huit jeunes photographes is
 sus de cette région[..]\nhttps://www.9lives-magazine.com/events/mon-ami-ne
 st-pas-ici/
URL:https://www.9lives-magazine.com/events/mon-ami-nest-pas-ici/
END:VEVENT
END:VCALENDAR