BEGIN:VCALENDAR
VERSION:2.0
PRODID:-//eventon.com NONSGML v1.0//EN
CALSCALE:GREGORIAN
METHOD:PUBLISH
BEGIN:VEVENT
UID:69ea4e216a46e
DTSTAMP:20260423T165145Z
DTSTART:20210316T010000Z
DTEND:20210831T060000Z
LOCATION:FermÃ© le Lundi\,  EspÃ¨ce d'Espace Photographique 130 Boulevard de la LibÃ©ration\,  13004 Marseille
SUMMARY:Paysage(s)
DESCRIPTION:La photographie de paysage parcourt lâ€™histoire du mÃ©dium dep
 uis sa crÃ©ation avec des approches trÃ¨s diffÃ©rentes selon les Ã©poques. 
 La carte postale\,  bien sÃ»r\,  y tient une place importante mais dâ€™autr
 es styles ou fonctions construisent lâ€™imaginaire de ce genre\,  comme lâ€
 ™appropriation du territoire chez les amÃ©ricains ou les tÃ©moignages socia
 ux[..]\nhttps://www.9lives-magazine.com/events/paysages-2/
URL:https://www.9lives-magazine.com/events/paysages-2/
END:VEVENT
END:VCALENDAR