BEGIN:VCALENDAR
VERSION:2.0
PRODID:-//eventon.com NONSGML v1.0//EN
CALSCALE:GREGORIAN
METHOD:PUBLISH
BEGIN:VEVENT
UID:69e6a645d5016
DTSTAMP:20260420T221845Z
DTSTART:20210710T020000Z
DTEND:20210901T060000Z
LOCATION:Association VALIMAGE 7\,  avenue Jules Lemaître 45190 Tavers
SUMMARY:Terre & Territoires
DESCRIPTION:Arno Brignon a inauguré la première édition de la résidence
  croisée Terre &amp; Territoires. Entre septembre et novembre 2020\,  Arno
  Brignon a marché. Il a relié Tavers à Thoré-la-Rochette\,  du Val de L
 oire au Perche vendômois en passant par la Beauce. En sillonnant ce territ
 oire rural exploité\,  habité mais aussi[..]\nhttps://www.9lives-magazine
 .com/events/terre-territoires/
URL:https://www.9lives-magazine.com/events/terre-territoires/
END:VEVENT
END:VCALENDAR