BEGIN:VCALENDAR
VERSION:2.0
PRODID:-//eventon.com NONSGML v1.0//EN
CALSCALE:GREGORIAN
METHOD:PUBLISH
BEGIN:VEVENT
UID:69ec353c09c79
DTSTAMP:20260425T033004Z
DTSTART:20210419T190000Z
DTEND:20210605T235900Z
LOCATION:
SUMMARY:Bourse Photographe de la Fondation Jean-Luc Lagardère 2021
DESCRIPTION:Cette bourse est attribuée à un(e) jeune photographe professi
 onnel(le) désireux(se) de réaliser en France ou à l’étranger\,  un pr
 ojet photographique à caractère documentaire\,  dans le domaine social\, 
  économique\,  politique ou culturel. Dotation de 10000€ Modalités de c
 andidature : • Avoir 35 ans au plus\,  au 31 décembre 2021 ; •[..]\nht
 tps://www.9lives-magazine.com/events/bourse-photographe-de-la-fondation-jea
 n-luc-lagardere-2021/
URL:https://www.9lives-magazine.com/events/bourse-photographe-de-la-fondation-jean-luc-lagardere-2021/
END:VEVENT
END:VCALENDAR