BEGIN:VCALENDAR
VERSION:2.0
PRODID:-//eventon.com NONSGML v1.0//EN
CALSCALE:GREGORIAN
METHOD:PUBLISH
BEGIN:VEVENT
UID:69ec355587e2b
DTSTAMP:20260425T033029Z
DTSTART:20210413T180000Z
DTEND:20210609T105900Z
LOCATION:
SUMMARY:14Ã¨me Ã©dition de Visa dâ€™or humanitaire du ComitÃ© International de la Croix-Rouge (CICR)
DESCRIPTION:Depuis 2011\,  le Â«Â Visa d&rsquo;Or humanitaire du CICRÂ Â» r
 Ã©compense un photojournaliste professionnel ayant couvert une problÃ©matiq
 ue humanitaire en lien avec un conflit armÃ©. Ce prix s&rsquo;intÃ¨gre dans
  le prestigieux festival international de photojournalisme de Perpignan\, Â
  Visa pour l&rsquo;Image. La compÃ©tition se terminera le 8 juin prochain. 
 De 2011 Ã  2014\,  il[..]\nhttps://www.9lives-magazine.com/events/14eme-edi
 tion-de-visa-dor-humanitaire-du-comite-international-de-la-croix-rouge-cicr
 /
URL:https://www.9lives-magazine.com/events/14eme-edition-de-visa-dor-humanitaire-du-comite-international-de-la-croix-rouge-cicr/
END:VEVENT
END:VCALENDAR