BEGIN:VCALENDAR
VERSION:2.0
PRODID:-//eventon.com NONSGML v1.0//EN
CALSCALE:GREGORIAN
METHOD:PUBLISH
BEGIN:VEVENT
UID:69e5925848511
DTSTAMP:20260420T024128Z
DTSTART:20210601T210000Z
DTEND:20210906T050000Z
LOCATION:
SUMMARY:4ème édition Les Femmes s'exposent
DESCRIPTION:L’année 2021 a commencé sous le signe de la résistance\,  
 dans l’espoir d’un avenir meilleur. Les douze derniers mois ont été d
 éstabilisants\,  critiques\,  tragiques parfois. Alors nous nous sommes mo
 bilisées pour penser\,  créer et organiser cette 4e édition du Festival 
 Les femmes s’exposent – en surmontant des embûches là où[..]\nhttps:
 //www.9lives-magazine.com/events/4eme-edition-les-femmes-sexposent/
URL:https://www.9lives-magazine.com/events/4eme-edition-les-femmes-sexposent/
END:VEVENT
END:VCALENDAR