BEGIN:VCALENDAR
VERSION:2.0
PRODID:-//eventon.com NONSGML v1.0//EN
CALSCALE:GREGORIAN
METHOD:PUBLISH
BEGIN:VEVENT
UID:69ec354574d83
DTSTAMP:20260425T033013Z
DTSTART:20210301T180000Z
DTEND:20210518T105900Z
LOCATION:
SUMMARY:Bourse Canon de la Femme photojournaliste 2021
DESCRIPTION:Pour la vingt-et-unième année consécutive\,  Canon et Visa
  pour l’Image décernent la Bourse Canon de la Femme Photojournaliste à 
 une photographe\,  en reconnaissance de sa contribution au photojournalisme
 . La bourse\,  dotée de 8 000 €\,  permettra à la lauréate de financer
  un nouveau projet passionnant\,  qui sera exposé lors de l’édition 202
 2[..]\nhttps://www.9lives-magazine.com/events/bourse-canon-de-la-femme-phot
 ojournaliste-2021/
URL:https://www.9lives-magazine.com/events/bourse-canon-de-la-femme-photojournaliste-2021/
END:VEVENT
END:VCALENDAR