BEGIN:VCALENDAR
VERSION:2.0
PRODID:-//eventon.com NONSGML v1.0//EN
CALSCALE:GREGORIAN
METHOD:PUBLISH
BEGIN:VEVENT
UID:69ec1ede58409
DTSTAMP:20260425T015438Z
DTSTART:20210301T180000Z
DTEND:20210521T105900Z
LOCATION:
SUMMARY:Bourses de production pour les femmes photojournalistes du ministère de la Culture
DESCRIPTION:Pour la deuxième année consécutive\,  le ministère de la Cu
 lture et Visa pour l’Image décernent deux bourses à des femmes photojou
 rnalistes en reconnaissance de leur contribution au photojournalisme. Chaqu
 e bourse est dotée de 5 000 euros. Téléchargez le règlement en cliquant
  ici et participez avant le 20 mai 2021. Bonne[..]\nhttps://www.9lives-maga
 zine.com/events/bourses-de-production-pour-les-femmes-photojournalistes-du-
 ministere-de-la-culture/
URL:https://www.9lives-magazine.com/events/bourses-de-production-pour-les-femmes-photojournalistes-du-ministere-de-la-culture/
END:VEVENT
END:VCALENDAR