BEGIN:VCALENDAR
VERSION:2.0
PRODID:-//eventon.com NONSGML v1.0//EN
CALSCALE:GREGORIAN
METHOD:PUBLISH
BEGIN:VEVENT
UID:69ec08e9da644
DTSTAMP:20260425T002057Z
DTSTART:20210408T110000Z
DTEND:20210607T110000Z
LOCATION:Mairie de Bayeux 19 Rue Laitière 14400 Bayeux
SUMMARY:Prix Bayeux des correspondants de guerre 2021
DESCRIPTION:Le Prix Bayeux Calvados-Normandie des correspondants de guerre 
 récompense un reportage sur une situation de conflit ou ses conséquences 
 pour les populations civiles\,  ou sur un fait d’actualité concernant la
  défense des libertés et de la démocratie. Le reportage doit avoir été
  réalisé entre le 1er juin 2020 et le 31 mai[..]\nhttps://www.9lives-ma
 gazine.com/events/prix-bayeux-des-correspondants-de-guerre-2021/
URL:https://www.9lives-magazine.com/events/prix-bayeux-des-correspondants-de-guerre-2021/
END:VEVENT
END:VCALENDAR