BEGIN:VCALENDAR
VERSION:2.0
PRODID:-//eventon.com NONSGML v1.0//EN
CALSCALE:GREGORIAN
METHOD:PUBLISH
BEGIN:VEVENT
UID:69ec1ee7b674c
DTSTAMP:20260425T015447Z
DTSTART:20210401T180000Z
DTEND:20210622T225900Z
LOCATION:
SUMMARY:Prix Pierre & Alexandra Boulat 2021
DESCRIPTION:Dans le but d’encourager le travail des photojournalistes qui
  se heurtent aux difficultés économiques du métier de photojournaliste l
 ’Association décerne un Prix de 8000\, 00 €\,  doté pour la sixième 
 année par la Scam. Ce Prix est attribué\,  sur présentation d’un dossi
 er\,  à un ou une photojournaliste en activité\,  sans restriction[..]\nh
 ttps://www.9lives-magazine.com/events/prix-pierre-alexandra-boulat-2021/
URL:https://www.9lives-magazine.com/events/prix-pierre-alexandra-boulat-2021/
END:VEVENT
END:VCALENDAR