BEGIN:VCALENDAR
VERSION:2.0
PRODID:-//eventon.com NONSGML v1.0//EN
CALSCALE:GREGORIAN
METHOD:PUBLISH
BEGIN:VEVENT
UID:69e70cd1bc872
DTSTAMP:20260421T053617Z
DTSTART:20210704T210000Z
DTEND:20210830T060000Z
LOCATION:Bisous 33 Rue de la République\,  13200 Arles
SUMMARY:The Rabbit Hole
DESCRIPTION:“Les photographies de Boris Eldagsen et Tanvir Taolad nous em
 mènent de l&rsquo;autre côté de l&rsquo;esprit\,  aux périphéries de l
 ’univers. Nous ne savons pas si nous voyons les rêves de l&rsquo;artiste
  ou un miroir de notre état de conscience le plus profond. Ces images de l
 a série Rabbit Hole sont vraiment[..]\nhttps://www.9lives-magazine.com/eve
 nts/the-rabbit-hole-boris-eldagsen-tanvir-taolad/
URL:https://www.9lives-magazine.com/events/the-rabbit-hole-boris-eldagsen-tanvir-taolad/
END:VEVENT
END:VCALENDAR