BEGIN:VCALENDAR
VERSION:2.0
PRODID:-//eventon.com NONSGML v1.0//EN
CALSCALE:GREGORIAN
METHOD:PUBLISH
BEGIN:VEVENT
UID:69ea4184b09fc
DTSTAMP:20260423T155756Z
DTSTART:20210606T010000Z
DTEND:20210718T060000Z
LOCATION:L’Espace d’art Chaillioux Fresnes 94 7 rue Louise Bourgeois 94260 Fresnes
SUMMARY:La photographie et ses dérives II
DESCRIPTION:Pour conclure la première année d’activités en ces lieux\,
   en novembre-décembre 2018\,  nous avions proposé une exposition intitul
 ée La photographie et ses dérives. Dans le catalogue de cette manifestati
 on\,  nous soulignions le caractère non exhaustif de la vision proposée p
 ar les huit photographes alors exposés. Ce deuxième volet se propose[..]\
 nhttps://www.9lives-magazine.com/events/la-photographie-et-ses-derives-ii/
URL:https://www.9lives-magazine.com/events/la-photographie-et-ses-derives-ii/
END:VEVENT
END:VCALENDAR